BEGIN:VCALENDAR
VERSION:2.0
PRODID:-//ChamberMaster//Event Calendar 2.0//EN
METHOD:PUBLISH
X-PUBLISHED-TTL:P3D
REFRESH-INTERVAL:P3D
CALSCALE:GREGORIAN
BEGIN:VEVENT
DTSTART;VALUE=DATE:20151005
DTEND;VALUE=DATE:20151018
TRANSP:TRANSPARENT
X-MICROSOFT-CDO-ALLDAYEVENT:TRUE
SUMMARY:Huntsman World Senior Games
DESCRIPTION:The Huntsman World Senior Games is the largest annual multi-sport event in the world for athletes age 50 and over. Every October athletes from around the world come to St. George to make and renew friendships and to challenge societal views of aging.
X-ALT-DESC;FMTTYPE=text/html:The Huntsman World Senior Games is the largest annual multi-sport event in the world for athletes age 50 and over. Every October athletes from around the world come to St. George to make and renew friendships and to challenge societal views of aging.
LOCATION:Various venues around Washington County. More information at www.seniorgames.net
UID:e.1117.6283
SEQUENCE:3
DTSTAMP:20260420T065144Z
URL:https://business.stgeorgechamber.com/events/details/huntsman-world-senior-games-10-05-2015-6283
END:VEVENT

END:VCALENDAR
