BEGIN:VCALENDAR
VERSION:2.0
PRODID:-//ChamberMaster//Event Calendar 2.0//EN
METHOD:PUBLISH
X-PUBLISHED-TTL:P3D
REFRESH-INTERVAL:P3D
CALSCALE:GREGORIAN
BEGIN:VEVENT
DTSTART:20140220T023000Z
DTEND:20140223T043000Z
X-MICROSOFT-CDO-ALLDAYEVENT:FALSE
SUMMARY:Huebener Play
DESCRIPTION:PLAY SUMMARY:  By 1941\, Hitler?s Nazi regime had seized unbelievable control over the German people\, dictating what they read\, what they said-even what they believed. A whispered criticism of the Nazi Party could lead to a Gestapo interrogation and prison. In this environment\, a young man\, sixteen years old\, took action that some considered foolhardy\, and others viewed as treacherous and morally wrong. What he did was certainly dangerous. Today many consider his actions heroic. This is the story of Helmuth Huebener. Helmuth Huebener led a resistance group composed of himself and two of his childhood friends from his LDS Church branch. The three of them carefully distributed flyers throughout Hamburg that denounced Hitler and his propaganda machine. This play chronicles what happened to these young men\, and the ultimate price paid by those who dared to stand up for the truth. Written by Thomas F. Rogers Thomas F. Rogers will be present for the opening night performance February 19th. Tickets can be purchased using the link found online at the www.pineviewtheatre.org main page Tickets are $8.00 each
X-ALT-DESC;FMTTYPE=text/html:PLAY SUMMARY:&nbsp\; By 1941\, Hitler?s Nazi regime had seized unbelievable control over the German people\, dictating what they read\, what they said-even what they believed. A whispered criticism of the Nazi Party could lead to a Gestapo interrogation and prison. In this environment\, a young man\, sixteen years old\, took action that some considered foolhardy\, and others viewed as treacherous and morally wrong. What he did was certainly dangerous. Today many consider his actions heroic. This is the story of Helmuth Huebener. Helmuth Huebener led a resistance group composed of himself and two of his childhood friends from his LDS Church branch. The three of them carefully distributed flyers throughout Hamburg that denounced Hitler and his propaganda machine. This play chronicles what happened to these young men\, and the ultimate price paid by those who dared to stand up for the truth. Written by Thomas F. Rogers Thomas F. Rogers will be present for the opening night performance February 19th. Tickets can be purchased using the link found online at the www.pineviewtheatre.org main page Tickets are $8.00 each
LOCATION:Pine View High School 2850 East 750 North St George Utah 84790 (Behind Costco)
UID:e.1117.5074
SEQUENCE:3
DTSTAMP:20260421T141551Z
URL:https://business.stgeorgechamber.com/events/details/huebener-play-02-19-2014-5074
END:VEVENT

END:VCALENDAR
