BEGIN:VCALENDAR
VERSION:2.0
PRODID:-//ChamberMaster//Event Calendar 2.0//EN
METHOD:PUBLISH
X-PUBLISHED-TTL:P3D
REFRESH-INTERVAL:P3D
CALSCALE:GREGORIAN
BEGIN:VEVENT
DTSTART:20130619T180000Z
DTEND:20130619T190000Z
X-MICROSOFT-CDO-ALLDAYEVENT:FALSE
SUMMARY:"How to Work With People" Luncheon
DESCRIPTION:Robert Evans has been training sales personnel across the United States and in Europe for more than 30 years. Beginning as a young buck fresh out of Brigham Young University\, he cut his teeth in sales excellence and training with ADP.  As a matter of fact\, in those early days\, he was salesman number 16 and set the standard for sales production and then through the training of other sales and management personnel.\n\n\n\nRobert's motto is We make profits soar! and this motto has been proven time and again in each and every business that has come to him to train their staffs from sales\, front office\, back office\, management\, etc.\n\nWith over 30 years of experience under his belt\, Robert has trained over 160 of the Fortune 500 companies. That is impressive in itself. Additionally\, at one time or another\, Robert has been the principal trainer for most of the training professionals today.
X-ALT-DESC;FMTTYPE=text/html:Robert Evans has been&nbsp\;training sales&nbsp\;personnel across the United States and in Europe for more than 30 years. Beginning as a young buck fresh out of Brigham Young University\,&nbsp\;he cut his teeth in&nbsp\;sales&nbsp\;excellence and&nbsp\;training&nbsp\;with ADP. &nbsp\;As a&nbsp\;matter of fact\, in those early days\, he was&nbsp\;salesman&nbsp\;number 16 and set the standard for&nbsp\;sales production and then through the training of other&nbsp\;sales&nbsp\;and management personnel.<br />\n<br />\nRobert&rsquo\;s motto is&nbsp\;We make profits soar!&nbsp\;and this motto has been proven time and again in each and every business that has come to him to&nbsp\;train&nbsp\;their staffs from&nbsp\;sales\, front office\, back office\, management\, etc.<br />\nWith over 30 years of experience under his belt\, Robert has&nbsp\;trained&nbsp\;over 160 of the Fortune 500&nbsp\;companies. That is impressive in itself. Additionally\, at one time or another\, Robert has been the principal trainer for most of the training professionals today.<br />\n
LOCATION:Best Western Abbey Inn 1129 S. Bluff Street St. George
UID:e.1117.2965
SEQUENCE:3
DTSTAMP:20260422T041515Z
URL:https://business.stgeorgechamber.com/events/details/how-to-work-with-people-luncheon-06-19-2013-2965
END:VEVENT

END:VCALENDAR
