BEGIN:VCALENDAR
VERSION:2.0
PRODID:-//ChamberMaster//Event Calendar 2.0//EN
METHOD:PUBLISH
X-PUBLISHED-TTL:P3D
REFRESH-INTERVAL:P3D
CALSCALE:GREGORIAN
BEGIN:VEVENT
DTSTART:20150304T010000Z
DTEND:20150304T023000Z
X-MICROSOFT-CDO-ALLDAYEVENT:FALSE
SUMMARY:How to Avoid 5 Common Estate Planning Mistakes
DESCRIPTION:How do you avoid the costly mistakes families make in their estate plans? Attend this seminar and discover how you can avoid mistakes in key areas. Speaker Attorney Randall Holmgren\, of the Salt Lake City and St. George law firm Jones Waldo\, has over 30 years of experience helping people prevent legal problems and find solutions to existing ones. Seminar attendees can qualify to receive a FREE two-hour\, private consultation to discuss how your individual needs and objectives can be accomplished using cutting edge estate-planning. Space is limited\, call 801-534-7271 to register today!
X-ALT-DESC;FMTTYPE=text/html:How do you avoid the costly mistakes families make in their estate plans? Attend this seminar and discover how you can avoid mistakes in key areas. Speaker Attorney Randall Holmgren\, of the Salt Lake City and St. George law firm Jones Waldo\, has over 30 years of experience helping people prevent legal problems and find solutions to existing ones. Seminar attendees can qualify to receive a FREE two-hour\, private consultation to discuss how your individual needs and objectives can be accomplished using cutting edge estate-planning. Space is limited\, call 801-534-7271 to register today!
LOCATION:Dixie Convention Center - Entrada A 1835 Convention Center Drive St. George\, UT
UID:e.1117.6308
SEQUENCE:3
DTSTAMP:20260420T203930Z
URL:https://business.stgeorgechamber.com/events/details/how-to-avoid-5-common-estate-planning-mistakes-03-03-2015-6308
END:VEVENT

END:VCALENDAR
