BEGIN:VCALENDAR
VERSION:2.0
PRODID:-//ChamberMaster//Event Calendar 2.0//EN
METHOD:PUBLISH
X-PUBLISHED-TTL:P3D
REFRESH-INTERVAL:P3D
CALSCALE:GREGORIAN
BEGIN:VEVENT
DTSTART:20160311T020000Z
DTEND:20160311T040000Z
X-MICROSOFT-CDO-ALLDAYEVENT:FALSE
SUMMARY:"Honk!" at Brigham's Playhouse
DESCRIPTION:Honk! is a musical based on the classic tale of the Ugly Ducking\, and won Best Musical in London in 2000! Ugly feels left out when he is hatched into a family that looks nothing like him. Although his siblings and neighbors mock him\, his mother stands by his side through it all. Eventually Ugly can't take it any more and embarks on a journey to discover who he truly is and find where he really belongs. With catchy music\, fun choreography\, and a story that will entertain both adults and kids alike! Performances are Thursday- Saturday at 7:00pm and an additional matinee on Saturdays at 2:00pm\, Feb. 20 - March 12. Purchase your tickets today by calling the box office\, (435)251-8000 or visiting www.brighamsplayhouse.com.
X-ALT-DESC;FMTTYPE=text/html:<em>Honk!</em>&nbsp\;is a musical based on the classic tale of the Ugly Ducking\, and won&nbsp\;Best Musical&nbsp\;in London in 2000! Ugly feels left out when he is hatched into a family that looks nothing like him. Although his siblings and neighbors mock him\, his mother stands by his side through it all. Eventually Ugly can&#39\;t take it any more and embarks on a journey to discover who he truly is and find where he really belongs.&nbsp\;With catchy music\, fun&nbsp\;choreography\, and a story that will entertain both adults and kids alike! Performances are Thursday- Saturday at 7:00pm&nbsp\;and an additional matinee on&nbsp\;Saturdays at 2:00pm\, Feb. 20 - March 12. Purchase your&nbsp\;tickets&nbsp\;today by calling the box office\, (435)251-8000 or visiting www.brighamsplayhouse.com.
LOCATION:Brigham's Playhouse 25 N. 300 W. Washington\, UT 84780. In the CottonTown Village across from the street from Riggatti's Pizza.
UID:e.1117.8459
SEQUENCE:3
DTSTAMP:20260419T234345Z
URL:https://business.stgeorgechamber.com/events/details/honk-at-brigham-s-playhouse-03-10-2016-8459
END:VEVENT

END:VCALENDAR
