BEGIN:VCALENDAR
VERSION:2.0
PRODID:-//ChamberMaster//Event Calendar 2.0//EN
METHOD:PUBLISH
X-PUBLISHED-TTL:P3D
REFRESH-INTERVAL:P3D
CALSCALE:GREGORIAN
BEGIN:VEVENT
DTSTART:20220517T173000Z
DTEND:20220517T190000Z
X-MICROSOFT-CDO-ALLDAYEVENT:FALSE
SUMMARY:Home Ownership 101: Young Professional Luncheon
DESCRIPTION:What goes in to purchasing a home? What are closing costs? What does a title company do? How do you choose a realtor? Is home ownership really out of reach for young professionals? We will address these questions and more at our Home Ownership 101 Panel at our monthly Young Professionals Luncheon.
X-ALT-DESC;FMTTYPE=text/html:What goes in to purchasing a home? What are closing costs? What does a title company do? How do you choose a realtor? Is home ownership really out of reach for young professionals? We will address these questions and more at our Home Ownership 101 Panel at our monthly Young Professionals Luncheon.
LOCATION:Chamber Office 136 North 100 East St. George\, UT 84770
UID:e.1117.16446
SEQUENCE:3
DTSTAMP:20260421T101201Z
URL:https://business.stgeorgechamber.com/events/details/home-ownership-101-young-professional-luncheon-16446
END:VEVENT

END:VCALENDAR
