BEGIN:VCALENDAR
VERSION:2.0
PRODID:-//ChamberMaster//Event Calendar 2.0//EN
METHOD:PUBLISH
X-PUBLISHED-TTL:P3D
REFRESH-INTERVAL:P3D
CALSCALE:GREGORIAN
BEGIN:VEVENT
DTSTART:20131019T180000Z
DTEND:20131019T230000Z
X-MICROSOFT-CDO-ALLDAYEVENT:FALSE
SUMMARY:Holi Festival of Colors
DESCRIPTION:The same original Festival of colors which attracts 75\,000 over two days in Spanish Fork\, Utah. Live Bands\, Yoga\, Colors\, Vegetarian Cuisine. Visit our facebook page @ festivalofcolorsusa
X-ALT-DESC;FMTTYPE=text/html:The same original Festival of colors which attracts 75\,000 over two days in Spanish Fork\, Utah. Live Bands\, Yoga\, Colors\, Vegetarian Cuisine. Visit our facebook page @ festivalofcolorsusa
LOCATION:Dixie Sun Bowl
UID:e.1117.4319
SEQUENCE:3
DTSTAMP:20260421T213945Z
URL:https://business.stgeorgechamber.com/events/details/holi-festival-of-colors-10-19-2013-4319
END:VEVENT

END:VCALENDAR
