BEGIN:VCALENDAR
VERSION:2.0
PRODID:-//ChamberMaster//Event Calendar 2.0//EN
METHOD:PUBLISH
X-PUBLISHED-TTL:P3D
REFRESH-INTERVAL:P3D
CALSCALE:GREGORIAN
BEGIN:VEVENT
DTSTART:20150411T180000Z
DTEND:20150411T220000Z
X-MICROSOFT-CDO-ALLDAYEVENT:FALSE
SUMMARY:Holi Festival of Colors
DESCRIPTION:Mantra Bands\, Dj's Yoga\, Cuisine\, Colors\, Free Hugs\, same event as Spanish Fork\, which just recently attracted 50\,000.
X-ALT-DESC;FMTTYPE=text/html:Mantra Bands\, Dj&#39\;s Yoga\, Cuisine\, Colors\, Free Hugs\, same event as Spanish Fork\, which just recently attracted 50\,000.
LOCATION:Dixie Sun Bowl 150 S 400 East St George Utah 84770
UID:e.1117.6376
SEQUENCE:3
DTSTAMP:20260420T191152Z
URL:https://business.stgeorgechamber.com/events/details/holi-festival-of-colors-04-11-2015-6376
END:VEVENT

END:VCALENDAR
