BEGIN:VCALENDAR
VERSION:2.0
PRODID:-//ChamberMaster//Event Calendar 2.0//EN
METHOD:PUBLISH
X-PUBLISHED-TTL:P3D
REFRESH-INTERVAL:P3D
CALSCALE:GREGORIAN
BEGIN:VEVENT
DTSTART:20150219T230000Z
DTEND:20150220T010000Z
X-MICROSOFT-CDO-ALLDAYEVENT:FALSE
SUMMARY:History as Art and Craft
DESCRIPTION:The Utah State Historical Society has assembled a cast of historians to speak about the art and craft of history--how historians do their work\, tackle complex and often controversial topics\, and seek mean and significance in the past.  This free ranging discussion will emphasize the history of southern Utah and the historians who worked in this corner of the state\, including Juanita Brooks.\n\nModerated by Brad Westwood\, director of the Utah Division of State History\, the panel discussion includes:\n\n*Amber D'Ambrosio--Special Collections Library\, Dixie State University Library\n\n*Edward Leo Lyman--Emeritus Professor of History\, Victor Valley College (CA)\n\n*Mark Miller--Professor of History and Department Chair\, Southern Utah University\n\n*Jedediah Rogers--Senior State Historian and co-managing editor of the Utah Historical Quarterly\n\n*Richard Saunders--Dean of Library Services\, Southern Utah University's Gerald R. Sherratt Library
X-ALT-DESC;FMTTYPE=text/html:The Utah State Historical Society has assembled a cast of historians to speak about the art and craft of history--how historians do their work\, tackle&nbsp\;complex and often controversial topics\, and seek mean and significance in the past. &nbsp\;This free ranging discussion will emphasize the history of southern Utah and the historians who worked in this corner of the state\, including Juanita Brooks.<br />\nModerated by Brad Westwood\, director of the Utah Division of State History\, the panel discussion includes:<br />\n*Amber D&#39\;Ambrosio--Special Collections Library\, Dixie State University Library<br />\n*Edward Leo Lyman--Emeritus Professor of History\, Victor Valley College (CA)<br />\n*Mark Miller--Professor of History and Department Chair\, Southern Utah University<br />\n*Jedediah Rogers--Senior State Historian and co-managing editor of the Utah Historical Quarterly<br />\n*Richard Saunders--Dean of Library Services\, Southern Utah University&#39\;s Gerald R. Sherratt Library
LOCATION:Washington County Historic Courthouse/Chamber of Commerce 97 E. St. George Blvd. St. George\, UT
UID:e.1117.6295
SEQUENCE:3
DTSTAMP:20260420T215730Z
URL:https://business.stgeorgechamber.com/events/details/history-as-art-and-craft-02-19-2015-6295
END:VEVENT

END:VCALENDAR
