BEGIN:VCALENDAR
VERSION:2.0
PRODID:-//ChamberMaster//Event Calendar 2.0//EN
METHOD:PUBLISH
X-PUBLISHED-TTL:P3D
REFRESH-INTERVAL:P3D
CALSCALE:GREGORIAN
BEGIN:VEVENT
DTSTART:20140329T160000Z
DTEND:20140329T190000Z
X-MICROSOFT-CDO-ALLDAYEVENT:FALSE
SUMMARY:Hike for Hounds
DESCRIPTION:Join Red Mountain Resort and Ivins No Kill Animal Supports for the Hike for Hounds.  Short fun hike\, silent auction\, pound puppies\, prizes and more!
X-ALT-DESC;FMTTYPE=text/html:Join Red Mountain Resort and Ivins No Kill Animal Supports for the&nbsp\;Hike for Hounds. &nbsp\;Short fun hike\, silent auction\, pound puppies\, prizes and more!
LOCATION:Red Mountain Resort 202 N. Snow Canyon Drive Ivins (near Snow Canyon State Park)
UID:e.1117.5109
SEQUENCE:3
DTSTAMP:20260421T125514Z
URL:https://business.stgeorgechamber.com/events/details/hike-for-hounds-03-29-2014-5109
END:VEVENT

END:VCALENDAR
