BEGIN:VCALENDAR
VERSION:2.0
PRODID:-//ChamberMaster//Event Calendar 2.0//EN
METHOD:PUBLISH
X-PUBLISHED-TTL:P3D
REFRESH-INTERVAL:P3D
CALSCALE:GREGORIAN
BEGIN:VEVENT
DTSTART:20131012T140000Z
DTEND:20131012T160000Z
X-MICROSOFT-CDO-ALLDAYEVENT:FALSE
SUMMARY:Hike for Healthcare
DESCRIPTION:Hike for Healthcare is presented by Zion's Way Home Health & Hospice and is a free event for everyone!  Breakfast\, prizes and outdoor fun!
X-ALT-DESC;FMTTYPE=text/html:Hike for Healthcare is presented by Zion&#39\;s Way Home Health &amp\; Hospice and is a free event for everyone! &nbsp\;Breakfast\, prizes and outdoor fun!
LOCATION:Johnson Arch at Snow Canyon State Park (south entrance)
UID:e.1117.4309
SEQUENCE:3
DTSTAMP:20260421T213606Z
URL:https://business.stgeorgechamber.com/events/details/hike-for-healthcare-10-12-2013-4309
END:VEVENT

END:VCALENDAR
