BEGIN:VCALENDAR
VERSION:2.0
PRODID:-//ChamberMaster//Event Calendar 2.0//EN
METHOD:PUBLISH
X-PUBLISHED-TTL:P3D
REFRESH-INTERVAL:P3D
CALSCALE:GREGORIAN
BEGIN:VEVENT
DTSTART:20130914T160000Z
DTEND:20130914T210000Z
X-MICROSOFT-CDO-ALLDAYEVENT:FALSE
SUMMARY:HfH ReStore 5 Year Anniversary Party
DESCRIPTION:Celebrating 5 years with food\, games and fun!  Come meet some non-profits in our area.
X-ALT-DESC;FMTTYPE=text/html:Celebrating 5 years with food\, games and fun! &nbsp\;Come meet some non-profits in our area.
LOCATION:HfH ReStore 267 E 1400 S St George UT
UID:e.1117.4283
SEQUENCE:3
DTSTAMP:20260421T213605Z
URL:https://business.stgeorgechamber.com/events/details/hfh-restore-5-year-anniversary-party-09-14-2013-4283
END:VEVENT

END:VCALENDAR
