BEGIN:VCALENDAR
VERSION:2.0
PRODID:-//ChamberMaster//Event Calendar 2.0//EN
METHOD:PUBLISH
X-PUBLISHED-TTL:P3D
REFRESH-INTERVAL:P3D
CALSCALE:GREGORIAN
BEGIN:VEVENT
DTSTART:20150122T180000Z
DTEND:20150122T220000Z
X-MICROSOFT-CDO-ALLDAYEVENT:FALSE
SUMMARY:Hero2Hired Job Fair
DESCRIPTION:Hiring Our Heroes\, a program of the U.S. Chamber of Commerce Foundation\, was launched in March 2011 as a nationwide initiative to help veterans\, Guard and Reserve servicemembers\, and military spouses find meaningful employment. Hiring Our Heroes has hosted more than 650 hiring fairs in all 50 states\, Puerto Rico\, and the District of Columbia. Our goal is to ensure veterans\, Guard and Reserve servicemembers\, and military spouses are able to utilize our resources to virtually connect with employers no matter where they are in the world.
X-ALT-DESC;FMTTYPE=text/html:Hiring Our Heroes\, a program of the U.S. Chamber of Commerce Foundation\, was launched in March 2011 as a nationwide initiative to help veterans\, Guard and Reserve servicemembers\, and military spouses find meaningful employment. Hiring Our Heroes has hosted more than 650 hiring fairs in all 50 states\, Puerto Rico\, and the District of Columbia. Our goal is to ensure veterans\, Guard and Reserve servicemembers\, and military spouses are able to utilize our resources to virtually connect with employers no matter where they are in the world.
LOCATION:Dixie Center 1835 Convention Center Drive\, St. George\, UT
UID:e.1117.6239
SEQUENCE:3
DTSTAMP:20260420T221025Z
URL:https://business.stgeorgechamber.com/events/details/hero2hired-job-fair-01-22-2015-6239
END:VEVENT

END:VCALENDAR
