BEGIN:VCALENDAR
VERSION:2.0
PRODID:-//ChamberMaster//Event Calendar 2.0//EN
METHOD:PUBLISH
X-PUBLISHED-TTL:P3D
REFRESH-INTERVAL:P3D
CALSCALE:GREGORIAN
BEGIN:VEVENT
DTSTART:20160326T013000Z
DTEND:20160326T040000Z
X-MICROSOFT-CDO-ALLDAYEVENT:FALSE
SUMMARY:Heritage Choir presents "How Great Thou Art"
DESCRIPTION:Brody Perry will join the choir in an evening of inspired music excellence.  Enjoy the beautiful anthems and hymns of hope and joy as the choir presents such sacred favorites as The Lord's Prayer\, O Divine Redeemer\, Abide with me\, Come Thou Fount of Every Blessing and How Great Thou Art to name a few of the evening's selections.
X-ALT-DESC;FMTTYPE=text/html:Brody Perry will join the choir in an evening of inspired music excellence.&nbsp\; Enjoy the beautiful anthems and hymns of hope and joy as the choir presents such sacred favorites as The Lord&#39\;s Prayer\, O Divine Redeemer\, Abide with me\, Come Thou Fount of Every Blessing and How Great Thou Art to name a few of the evening&#39\;s selections.
LOCATION:Cox Performing Arts Center Dixie State University St. George\, UT
UID:e.1117.8534
SEQUENCE:3
DTSTAMP:20260419T234439Z
URL:https://business.stgeorgechamber.com/events/details/heritage-choir-presents-how-great-thou-art-03-25-2016-8534
END:VEVENT

END:VCALENDAR
