BEGIN:VCALENDAR
VERSION:2.0
PRODID:-//ChamberMaster//Event Calendar 2.0//EN
METHOD:PUBLISH
X-PUBLISHED-TTL:P3D
REFRESH-INTERVAL:P3D
CALSCALE:GREGORIAN
BEGIN:VEVENT
DTSTART:20140512T010000Z
DTEND:20140512T030000Z
X-MICROSOFT-CDO-ALLDAYEVENT:FALSE
SUMMARY:Heritage Choir "Mother Through the Eyes of Children"
DESCRIPTION:A special tribute to women and mothers.
X-ALT-DESC;FMTTYPE=text/html:A special tribute to women and mothers.
LOCATION:St. George Tabernacle
UID:e.1117.5124
SEQUENCE:3
DTSTAMP:20260421T100821Z
URL:https://business.stgeorgechamber.com/events/details/heritage-choir-mother-through-the-eyes-of-children-05-11-2014-5124
END:VEVENT

END:VCALENDAR
