BEGIN:VCALENDAR
VERSION:2.0
PRODID:-//ChamberMaster//Event Calendar 2.0//EN
METHOD:PUBLISH
X-PUBLISHED-TTL:P3D
REFRESH-INTERVAL:P3D
CALSCALE:GREGORIAN
BEGIN:VEVENT
DTSTART:20140420T230000Z
DTEND:20140421T000000Z
X-MICROSOFT-CDO-ALLDAYEVENT:FALSE
SUMMARY:Heritage Choir "Behold the Lamb of God"
DESCRIPTION:An Easter concert honoring the Savior and His precious gift to us.
X-ALT-DESC;FMTTYPE=text/html:An Easter concert honoring the Savior and His precious gift to us.
LOCATION:St. George Tabernacle
UID:e.1117.5122
SEQUENCE:3
DTSTAMP:20260421T130047Z
URL:https://business.stgeorgechamber.com/events/details/heritage-choir-behold-the-lamb-of-god-04-20-2014-5122
END:VEVENT

END:VCALENDAR
