BEGIN:VCALENDAR
VERSION:2.0
PRODID:-//ChamberMaster//Event Calendar 2.0//EN
METHOD:PUBLISH
X-PUBLISHED-TTL:P3D
REFRESH-INTERVAL:P3D
CALSCALE:GREGORIAN
BEGIN:VEVENT
DTSTART:20140609T010000Z
DTEND:20140609T030000Z
X-MICROSOFT-CDO-ALLDAYEVENT:FALSE
SUMMARY:Heritage Choir "And to the Republic\, For Which it Stands"
DESCRIPTION:A Flag Day celebration honoring men\, fathers and all veterans.
X-ALT-DESC;FMTTYPE=text/html:A Flag Day celebration honoring men\, fathers and all veterans.
LOCATION:St. George Tabernacle
UID:e.1117.5125
SEQUENCE:3
DTSTAMP:20260423T085458Z
URL:https://business.stgeorgechamber.com/events/details/heritage-choir-and-to-the-republic-for-which-it-stands-06-08-2014-5125
END:VEVENT

END:VCALENDAR
