BEGIN:VCALENDAR
VERSION:2.0
PRODID:-//ChamberMaster//Event Calendar 2.0//EN
METHOD:PUBLISH
X-PUBLISHED-TTL:P3D
REFRESH-INTERVAL:P3D
CALSCALE:GREGORIAN
BEGIN:VEVENT
DTSTART:20140223T003000Z
DTEND:20140223T043000Z
X-MICROSOFT-CDO-ALLDAYEVENT:FALSE
SUMMARY:Heart Walk Foundation Banquet
DESCRIPTION:Eighth Annual BENEFIT DINNER and AUCTION - February. 22\, 2014  Join us for an exotic Peruvian evening of color\, fun\, friendship and philanthropy to bring solar lights and sustainable services (greenhouses\, schools\, and trout farms) to the forgotten Q'ero tribes of the Andes Mountains.
X-ALT-DESC;FMTTYPE=text/html:Eighth Annual BENEFIT DINNER and AUCTION -&nbsp\;February. 22\, 2014&nbsp\; Join us for an exotic Peruvian evening of color\, fun\, friendship and philanthropy to bring solar lights and sustainable services (greenhouses\, schools\, and trout farms) to the forgotten Q&#39\;ero tribes of the Andes Mountains.&nbsp\;
LOCATION:The Garden Room\, Dixie Convention Center\, St. George\, UT
UID:e.1117.5054
SEQUENCE:3
DTSTAMP:20260421T142627Z
URL:https://business.stgeorgechamber.com/events/details/heart-walk-foundation-banquet-02-22-2014-5054
END:VEVENT

END:VCALENDAR
