BEGIN:VCALENDAR
VERSION:2.0
PRODID:-//ChamberMaster//Event Calendar 2.0//EN
METHOD:PUBLISH
X-PUBLISHED-TTL:P3D
REFRESH-INTERVAL:P3D
CALSCALE:GREGORIAN
BEGIN:VEVENT
DTSTART:20151202T000000Z
DTEND:20151202T050000Z
X-MICROSOFT-CDO-ALLDAYEVENT:FALSE
SUMMARY:Heart of the Holidays
DESCRIPTION:Join the Eureka Casino Hotel as they blend the very best of local talent with Country Music Artists for a holiday show you won't want to miss!\n\n\n\nProceeds to support Charles A. Hughes Middle School\, Virgin Valley Elementary & High School\, community lady singers the "Treble Makers" adn the Arts in Mesquite.
X-ALT-DESC;FMTTYPE=text/html:Join the Eureka Casino Hotel as they blend the very best of local talent with Country Music Artists for a holiday show you won&#39\;t want to miss!<br />\n<br />\nProceeds to support Charles A. Hughes Middle School\, Virgin Valley Elementary &amp\; High School\, community lady singers the &quot\;Treble Makers&quot\; adn the Arts in Mesquite.
LOCATION:Eureka Casino
UID:e.1117.7337
SEQUENCE:3
DTSTAMP:20260420T031656Z
URL:https://business.stgeorgechamber.com/events/details/heart-of-the-holidays-12-01-2015-7337
END:VEVENT

END:VCALENDAR
