BEGIN:VCALENDAR
VERSION:2.0
PRODID:-//ChamberMaster//Event Calendar 2.0//EN
METHOD:PUBLISH
X-PUBLISHED-TTL:P3D
REFRESH-INTERVAL:P3D
CALSCALE:GREGORIAN
BEGIN:VEVENT
DTSTART:20160416T020000Z
DTEND:20160416T040000Z
X-MICROSOFT-CDO-ALLDAYEVENT:FALSE
SUMMARY:Heart in Concert at Tuacahn
DESCRIPTION:Sisters Ann and Nancy Wilson first showed the world that women can rock when their band\, Heart\, stormed the charts in the '70's with hits like "Crazy on You\," "Magic Man\," "Barracuda\," "Straight On\," and so many more. Not only did the Wilson sisters lead the band\, they wrote the songs and played the instruments too\, making them the first women in rock to do so. Heart continued topping the charts through the '80's and '90's with huge hits like "These Dreams\," "Alone\," "What About Love\," "If Looks Could Kill\," "Never\," and a string of other hits that showcased the sisters' enormous talents as musicians and singers. Nearly 35 years after their first big hit\, Ann and Nancy Wilson were back in the Billboard Top 10 in 2010 with Heart's "Red Velvet Car" album\, and a Top 5 DVD ("Night at Sky Church").\n\nAs individuals\, the sisters have also achieved significant success. Ann sang on songs that were both chart successes and motion picture themes\, like "Almost Paradise" from Footloose\, "Best Man in the World" from Goldenchild\, and "Surrender to Me" from Tequila Sunrise\, while Nancy composed and performed the scores to a half dozen motion pictures including the award winning "Jerry Maguire" and "Almost Famous."\n\nAlthough they got their start in Seattle and have become global phenomenons\, Ann and Nancy owe much of their success to Hollywood which is where they lived when they recorded the songs at the landmark Capitol Records building that earned them their first string of #1 singles\, and where they filmed all of their hugely successful videos.\n\nAlong the way\, music by Ann and Nancy Wilson and their band Heart has sold more than 35 million albums\, sold out arenas worldwide\, and found its way into the soundtrack of American life through radio\, motion pictures\, television\, and associations with branded sponsors. Today\, songs made famous by Heart are heard in every aspect of contemporary culture.
X-ALT-DESC;FMTTYPE=text/html:Sisters Ann and Nancy Wilson first showed the world that women can rock when their band\, Heart\, stormed the charts in the &lsquo\;70&rsquo\;s with hits like &ldquo\;Crazy on You\,&rdquo\; &ldquo\;Magic Man\,&rdquo\; &ldquo\;Barracuda\,&rdquo\; &ldquo\;Straight On\,&rdquo\; and so many more. Not only did the Wilson sisters lead the band\, they wrote the songs and played the instruments too\, making them the first women in rock to do so. Heart continued topping the charts through the &lsquo\;80&rsquo\;s and &lsquo\;90&rsquo\;s with huge hits like &ldquo\;These Dreams\,&rdquo\; &ldquo\;Alone\,&rdquo\; &ldquo\;What About Love\,&rdquo\; &ldquo\;If Looks Could Kill\,&rdquo\; &ldquo\;Never\,&rdquo\; and a string of other hits that showcased the sisters&rsquo\; enormous talents as musicians and singers. Nearly 35 years after their first big hit\, Ann and Nancy Wilson were back in the Billboard Top 10 in 2010 with Heart&rsquo\;s &ldquo\;Red Velvet Car&rdquo\; album\, and a Top 5 DVD (&ldquo\;Night at Sky Church&rdquo\;).<br />\nAs individuals\, the sisters have also achieved significant success. Ann sang on songs that were both chart successes and motion picture themes\, like &ldquo\;Almost Paradise&rdquo\; from Footloose\, &ldquo\;Best Man in the World&rdquo\; from Goldenchild\, and &ldquo\;Surrender to Me&rdquo\; from Tequila Sunrise\, while Nancy composed and performed the scores to a half dozen motion pictures including the award winning &ldquo\;Jerry Maguire&rdquo\; and &ldquo\;Almost Famous.&rdquo\;<br />\nAlthough they got their start in Seattle and have become global phenomenons\, Ann and Nancy owe much of their success to Hollywood which is where they lived when they recorded the songs at the landmark Capitol Records building that earned them their first string of #1 singles\, and where they filmed all of their hugely successful videos.<br />\nAlong the way\, music by Ann and Nancy Wilson and their band Heart has sold more than 35 million albums\, sold out arenas worldwide\, and found its way into the soundtrack of American life through radio\, motion pictures\, television\, and associations with branded sponsors. Today\, songs made famous by Heart are heard in every aspect of contemporary culture.
LOCATION:Tuacahn Amphitheater 1100 Tuacahn Drive Ivins\, Utah
UID:e.1117.8499
SEQUENCE:3
DTSTAMP:20260419T201539Z
URL:https://business.stgeorgechamber.com/events/details/heart-in-concert-at-tuacahn-04-15-2016-8499
END:VEVENT

END:VCALENDAR
