BEGIN:VCALENDAR
VERSION:2.0
PRODID:-//ChamberMaster//Event Calendar 2.0//EN
METHOD:PUBLISH
X-PUBLISHED-TTL:P3D
REFRESH-INTERVAL:P3D
CALSCALE:GREGORIAN
BEGIN:VEVENT
DTSTART:20151031T013000Z
DTEND:20151031T030000Z
X-MICROSOFT-CDO-ALLDAYEVENT:FALSE
SUMMARY:Halloween Spooktacular
DESCRIPTION:A treasure for all ages\, this delightful Southwest Symphony concert under the direction of Maestro Gary Caldwell offers tantalizing music of the Halloween season. The St. George Dance Company and Summer Belnap Robertson offer magical zest and sparkle to the occasion. Don't be afraid to wear your costume. Note: Children in costumes are admitted free.
X-ALT-DESC;FMTTYPE=text/html:A treasure for all ages\, this delightful Southwest Symphony concert under the direction of Maestro Gary Caldwell offers tantalizing music of the Halloween season. The St. George Dance Company and Summer Belnap Robertson offer magical zest and sparkle to the occasion. Don&#39\;t be afraid to wear your costume. Note: Children in costumes are admitted free.
LOCATION:Cox Performing Arts Center\, Dixie State University 84770
UID:e.1117.7034
SEQUENCE:3
DTSTAMP:20260420T065016Z
URL:https://business.stgeorgechamber.com/events/details/halloween-spooktacular-10-30-2015-7034
END:VEVENT

END:VCALENDAR
