BEGIN:VCALENDAR
VERSION:2.0
PRODID:-//ChamberMaster//Event Calendar 2.0//EN
METHOD:PUBLISH
X-PUBLISHED-TTL:P3D
REFRESH-INTERVAL:P3D
CALSCALE:GREGORIAN
BEGIN:VEVENT
DTSTART:20160228T010000Z
DTEND:20160228T050000Z
X-MICROSOFT-CDO-ALLDAYEVENT:FALSE
SUMMARY:Habitat for Humanity of Southwest Utah Annual Masquerade Ball
DESCRIPTION:Habitat for Humanity of Southwest Utah is holding their Annual Masquerade Ball on February 27\, 2016.  This fundraiser will feature an evening of Fine Dining\, Entertainment\, Silent and Live Auctions.  Become a sponsor or donate an item for the auction\, call Lil Barron at 435.319.6332.  Come support Habitat without swinging a hammer
X-ALT-DESC;FMTTYPE=text/html:<span style="color:#000000\;"><span style="font-size:14px\;"><span style="font-family:arial\;">Habitat for Humanity of Southwest Utah is holding their Annual Masquerade Ball on February 27\, 2016. &nbsp\;This fundraiser will feature an evening of Fine Dining\, Entertainment\, Silent and Live Auctions.&nbsp\; Become a sponsor or donate an item for the auction\, call Lil Barron at 435.319.6332.&nbsp\; Come support Habitat without swinging a hammer</span></span></span>
LOCATION:Hilton Garden Inn
UID:e.1117.8432
SEQUENCE:3
DTSTAMP:20260420T013457Z
URL:https://business.stgeorgechamber.com/events/details/habitat-for-humanity-of-southwest-utah-annual-masquerade-ball-02-27-2016-8432
END:VEVENT

END:VCALENDAR
