BEGIN:VCALENDAR
VERSION:2.0
PRODID:-//ChamberMaster//Event Calendar 2.0//EN
METHOD:PUBLISH
X-PUBLISHED-TTL:P3D
REFRESH-INTERVAL:P3D
CALSCALE:GREGORIAN
BEGIN:VEVENT
DTSTART:20130614T010000Z
DTEND:20130614T020000Z
X-MICROSOFT-CDO-ALLDAYEVENT:FALSE
SUMMARY:Habitat Family Selection meeting
DESCRIPTION:Habitat for Humanity of Southwest Utah is seeking two low-income families for its next two homes. Families are chosen on their need for decent housing\, their ability to make payments on an affordable no-profit\, no-interest mortgage\, and their willingness to be active partners with Habitat for Humanity of Southwest Utah. Interested applicants must attend the meeting scheduled for 7:00 pm on Thursday\, June 13\, 2013 to apply.\n\n\n\nYou will only be able to apply for the 2013 homes\, by attending this meeting. For more information\, please call 674-7669\, e-mail habitat@ifox.com\, or visit our website (www.habitatswu.org)
X-ALT-DESC;FMTTYPE=text/html:Habitat for Humanity of Southwest Utah is seeking two low-income families for its next two homes. Families are chosen on their need for decent housing\, their ability to make payments on an affordable no-profit\, no-interest mortgage\, and their willingness to be active partners with Habitat for Humanity of Southwest Utah. Interested applicants must attend the meeting scheduled for<strong> 7:00 pm on Thursday\, June 13\, 2013</strong> to apply.<br />\n<br />\nYou will only be able to apply for the 2013 homes\, by attending this meeting. For more information\, please call 674-7669\, e-mail habitat@ifox.com\, or visit our website (www.habitatswu.org)
LOCATION:
UID:e.1117.4134
SEQUENCE:3
DTSTAMP:20260422T024218Z
URL:https://business.stgeorgechamber.com/events/details/habitat-family-selection-meeting-06-13-2013-4134
END:VEVENT

END:VCALENDAR
