BEGIN:VCALENDAR
VERSION:2.0
PRODID:-//ChamberMaster//Event Calendar 2.0//EN
METHOD:PUBLISH
X-PUBLISHED-TTL:P3D
REFRESH-INTERVAL:P3D
CALSCALE:GREGORIAN
BEGIN:VEVENT
DTSTART:20150912T140000Z
DTEND:20150912T170000Z
X-MICROSOFT-CDO-ALLDAYEVENT:FALSE
SUMMARY:H.A.M. It Up Against Hunger Race
DESCRIPTION:This family-friendly 5K fun run is part of Utah Food Bank's activities to commemorate national Hunger Action Month\, which takes place in September. Every sponsorship dollar and registration fee for the race directly supports Utah Food Bank's work of fighting hunger in Southern Utah. The H.A.M. It Up Against Hunger Race will start and finish at the Utah Food Bank Southern Distribution Center. Costumes are highly encouraged\, so start thinking of how you and your family can H.A.M. It Up Against Hunger!
X-ALT-DESC;FMTTYPE=text/html:This family-friendly 5K fun run is part of Utah Food Bank&#39\;s activities to commemorate national Hunger Action Month\, which takes place in September. Every sponsorship dollar and registration fee for the race directly supports Utah Food Bank&#39\;s work of fighting hunger in Southern Utah. The H.A.M. It Up Against Hunger Race will start and finish at the Utah Food Bank Southern Distribution Center. Costumes are highly encouraged\, so start thinking of how you and your family can H.A.M. It Up Against Hunger!
LOCATION:Utah Food Bank Southern Distribution Center 4416 S. River Road St. George\, UT
UID:e.1117.6996
SEQUENCE:3
DTSTAMP:20260420T084941Z
URL:https://business.stgeorgechamber.com/events/details/h-a-m-it-up-against-hunger-race-09-12-2015-6996
END:VEVENT

END:VCALENDAR
