BEGIN:VCALENDAR
VERSION:2.0
PRODID:-//ChamberMaster//Event Calendar 2.0//EN
METHOD:PUBLISH
X-PUBLISHED-TTL:P3D
REFRESH-INTERVAL:P3D
CALSCALE:GREGORIAN
BEGIN:VEVENT
DTSTART;VALUE=DATE:20130524
DTEND;VALUE=DATE:20130527
TRANSP:TRANSPARENT
X-MICROSOFT-CDO-ALLDAYEVENT:TRUE
SUMMARY:GWRRA 2013 Region "F"un Convention
DESCRIPTION:Celebrating America's Heroes!\n\n	GWRRA Region "F"un Convention\n\n	May 24-26\, 2013\n\n	Dixie Center in St. George\, UT\n\n	Daily 50/25/25 \n\n	Bike Show \n\n	First Aid/CPR Class & Recert Class\n\n	Couple & Individual of the Year Selection  \n\n	Rider Ed Games\n\n	Rider Education and Leadership Training Courses \n\n	Master's Luncheon on Saturday\n\n	Best Dressed Competition\n\n	\n\n	Convention Pin & Door Prizes\n\n	ARC and TRC courses\n\n	 Light Parade\n\n	Vendors\, Including Bling & Chrome
X-ALT-DESC;FMTTYPE=text/html:<p class="MsoNormal" style="margin: 0in 0in 10pt\;">\n	<span style="color: red\; line-height: 115%\; font-family: &quot\;Comic Sans MS&quot\;\; font-size: 8.5pt\; mso-fareast-font-family: &quot\;Times New Roman&quot\;\; mso-bidi-font-family: &quot\;Courier New&quot\;\; mso-font-kerning: 18.0pt\;">Celebrating America&rsquo\;s Heroes!</span><br />\n	<span style="color: black\; line-height: 115%\; font-family: &quot\;Comic Sans MS&quot\;\; font-size: 8.5pt\; mso-fareast-font-family: &quot\;Times New Roman&quot\;\; mso-bidi-font-family: &quot\;Courier New&quot\;\; mso-font-kerning: 18.0pt\;">GWRRA Region &ldquo\;F&rdquo\;un Convention</span><br />\n	<span style="color: blue\; line-height: 115%\; font-family: &quot\;Comic Sans MS&quot\;\; font-size: 8.5pt\; mso-fareast-font-family: &quot\;Times New Roman&quot\;\; mso-bidi-font-family: &quot\;Courier New&quot\;\; mso-font-kerning: 18.0pt\;">May 24-26\, 2013</span><br />\n	<span style="color: red\; line-height: 115%\; font-family: &quot\;Comic Sans MS&quot\;\; font-size: 8.5pt\; mso-fareast-font-family: &quot\;Times New Roman&quot\;\; mso-bidi-font-family: &quot\;Courier New&quot\;\; mso-font-kerning: 18.0pt\;">Dixie Center in St. George\, UT<o:p></o:p></span></p>\n<p class="MsoNormal" style="margin: 0in 0in 10pt\;">\n	<b><span style="color: black\; line-height: 115%\; font-family: &quot\;Comic Sans MS&quot\;\; font-size: 4.5pt\; mso-fareast-font-family: &quot\;Times New Roman&quot\;\; mso-bidi-font-family: &quot\;Courier New&quot\;\; mso-bidi-font-size: 11.0pt\;">Daily 50/25/25&nbsp\;</span></b><br />\n	<b><span style="color: black\; line-height: 115%\; font-family: &quot\;Comic Sans MS&quot\;\; font-size: 4.5pt\; mso-fareast-font-family: &quot\;Times New Roman&quot\;\; mso-bidi-font-family: &quot\;Courier New&quot\;\; mso-bidi-font-size: 11.0pt\;">Bike Show&nbsp\;</span></b><br />\n	<b><span style="color: black\; line-height: 115%\; font-family: &quot\;Comic Sans MS&quot\;\; font-size: 4.5pt\; mso-fareast-font-family: &quot\;Times New Roman&quot\;\; mso-bidi-font-family: &quot\;Courier New&quot\;\; mso-bidi-font-size: 11.0pt\;">First Aid/CPR Class &amp\; Recert Class</span></b><br />\n	<b><span style="color: black\; line-height: 115%\; font-family: &quot\;Comic Sans MS&quot\;\; font-size: 4.5pt\; mso-fareast-font-family: &quot\;Times New Roman&quot\;\; mso-bidi-font-family: &quot\;Courier New&quot\;\; mso-bidi-font-size: 11.0pt\;">Couple &amp\; Individual of the Year Selection &nbsp\;<o:p></o:p></span></b></p>\n<p class="MsoNormal" style="margin: 0in 0in 10pt\;">\n	<b><span style="color: blue\; line-height: 115%\; font-family: &quot\;Comic Sans MS&quot\;\; font-size: 4.5pt\; mso-fareast-font-family: &quot\;Times New Roman&quot\;\; mso-bidi-font-family: &quot\;Courier New&quot\;\; mso-bidi-font-size: 11.0pt\;">Rider Ed Games</span></b><br />\n	<b><span style="color: blue\; line-height: 115%\; font-family: &quot\;Comic Sans MS&quot\;\; font-size: 4.5pt\; mso-fareast-font-family: &quot\;Times New Roman&quot\;\; mso-bidi-font-family: &quot\;Courier New&quot\;\; mso-bidi-font-size: 11.0pt\;">Rider Education and Leadership Training Courses&nbsp\;</span></b><br />\n	<b><span style="color: blue\; line-height: 115%\; font-family: &quot\;Comic Sans MS&quot\;\; font-size: 4.5pt\; mso-fareast-font-family: &quot\;Times New Roman&quot\;\; mso-bidi-font-family: &quot\;Courier New&quot\;\; mso-bidi-font-size: 11.0pt\;">Master&rsquo\;s Luncheon on Saturday</span></b><br />\n	<b><span style="color: blue\; line-height: 115%\; font-family: &quot\;Comic Sans MS&quot\;\; font-size: 4.5pt\; mso-fareast-font-family: &quot\;Times New Roman&quot\;\; mso-bidi-font-family: &quot\;Courier New&quot\;\; mso-bidi-font-size: 11.0pt\;">Best Dressed Competition<o:p></o:p></span></b></p>\n<p class="MsoNormal" style="margin: 0in 0in 10pt\;">\n	<br />\n	<b><span style="color: red\; line-height: 115%\; font-family: &quot\;Comic Sans MS&quot\;\; font-size: 4.5pt\; mso-fareast-font-family: &quot\;Times New Roman&quot\;\; mso-bidi-font-family: &quot\;Courier New&quot\;\; mso-bidi-font-size: 11.0pt\;">Convention Pin &amp\; Door Prizes</span></b><br />\n	<b><span style="color: red\; line-height: 115%\; font-family: &quot\;Comic Sans MS&quot\;\; font-size: 4.5pt\; mso-fareast-font-family: &quot\;Times New Roman&quot\;\; mso-bidi-font-family: &quot\;Courier New&quot\;\; mso-bidi-font-size: 11.0pt\;">ARC and TRC courses</span></b><br />\n	<b><span style="color: red\; line-height: 115%\; font-family: &quot\;Comic Sans MS&quot\;\; font-size: 4.5pt\; mso-fareast-font-family: &quot\;Times New Roman&quot\;\; mso-bidi-font-family: &quot\;Courier New&quot\;\; mso-bidi-font-size: 11.0pt\;">&nbsp\;Light Parade</span></b><br />\n	<b><span style="color: red\; line-height: 115%\; font-family: &quot\;Comic Sans MS&quot\;\; font-size: 4.5pt\; mso-fareast-font-family: &quot\;Times New Roman&quot\;\; mso-bidi-font-family: &quot\;Courier New&quot\;\; mso-bidi-font-size: 11.0pt\;">Vendors\, Including Bling &amp\; Chrome</span></b></p>\n
LOCATION:Dixie Center
UID:e.1117.2942
SEQUENCE:3
DTSTAMP:20260422T060137Z
URL:https://business.stgeorgechamber.com/events/details/gwrra-2013-region-f-un-convention-05-24-2013-2942
END:VEVENT

END:VCALENDAR
