BEGIN:VCALENDAR
VERSION:2.0
PRODID:-//ChamberMaster//Event Calendar 2.0//EN
METHOD:PUBLISH
X-PUBLISHED-TTL:P3D
REFRESH-INTERVAL:P3D
CALSCALE:GREGORIAN
BEGIN:VEVENT
DTSTART:20150510T220000Z
DTEND:20150511T020000Z
X-MICROSOFT-CDO-ALLDAYEVENT:FALSE
SUMMARY:Gregory's Mesquite Grill Mothers Day Special
DESCRIPTION:
X-ALT-DESC;FMTTYPE=text/html:
LOCATION:Gregory's Mesquite Grill Eureka Casino Hotel Mesquite\, NV
UID:e.1117.6452
SEQUENCE:3
DTSTAMP:20260420T173054Z
URL:https://business.stgeorgechamber.com/events/details/gregory-s-mesquite-grill-mothers-day-special-05-10-2015-6452
END:VEVENT

END:VCALENDAR
