BEGIN:VCALENDAR
VERSION:2.0
PRODID:-//ChamberMaster//Event Calendar 2.0//EN
METHOD:PUBLISH
X-PUBLISHED-TTL:P3D
REFRESH-INTERVAL:P3D
CALSCALE:GREGORIAN
BEGIN:VEVENT
DTSTART:20141101T230000Z
DTEND:20141102T040000Z
X-MICROSOFT-CDO-ALLDAYEVENT:FALSE
SUMMARY:Grande Masquerade Ball
DESCRIPTION:Join us for an evening of fine dining\, entertainment\, silent and live auctions.\n\nSemi-formal to black tie
X-ALT-DESC;FMTTYPE=text/html:Join us for an evening of fine dining\, entertainment\, silent and live auctions.<br />\nSemi-formal to black tie
LOCATION:SunRiver Ballroom 1860 Horizon View Drive St. George
UID:e.1117.6137
SEQUENCE:3
DTSTAMP:20260421T010728Z
URL:https://business.stgeorgechamber.com/events/details/grande-masquerade-ball-11-01-2014-6137
END:VEVENT

END:VCALENDAR
