BEGIN:VCALENDAR
VERSION:2.0
PRODID:-//ChamberMaster//Event Calendar 2.0//EN
METHOD:PUBLISH
X-PUBLISHED-TTL:P3D
REFRESH-INTERVAL:P3D
CALSCALE:GREGORIAN
BEGIN:VEVENT
DTSTART:20230130T193000Z
DTEND:20230130T203000Z
X-MICROSOFT-CDO-ALLDAYEVENT:FALSE
SUMMARY:GRAND OPENING: SunRock Yoga & Pilates
DESCRIPTION:Join us as we celebrate SunRock Yoga & Pilates. They are committed to sharing yoga and pilates at an individual level to make your movement practice accessible to your unique level of fitness. As you move at your own pace you will see improvement in strength\, balance\, flexibility\, and overall functionality in your daily life. \n\n\n\nTry their group yoga\, pilates\, and barre classes or book a private session of yoga or reformer pilates. All of their instructors are well versed in teaching to all levels and are prepared to help you have a wonderful experience with yoga and pilates. Wether you are new to movement practice or just looking for a new studio\, you will love the welcoming community at Sun Rock Yoga!\n\n\n\nLight Refreshments will be served!
X-ALT-DESC;FMTTYPE=text/html:<span style="font-size:18px\;"><span style="color: rgb(5\, 5\, 5)\; font-family: &quot\;Segoe UI Historic&quot\;\, &quot\;Segoe UI&quot\;\, Helvetica\, Arial\, sans-serif\;">Join us as we celebrate SunRock Yoga &amp\; Pilates. They</span><span style="color: rgb(0\, 0\, 0)\; font-family: Roboto\, RobotoDraft\, Helvetica\, Arial\, sans-serif\; white-space: pre-wrap\;"> are committed to sharing yoga and pilates at an individual level to make your movement practice accessible to your unique level of fitness. As you move at your own pace you will see improvement in strength\, balance\, flexibility\, and overall functionality in your daily life. </span><br />\n<br />\n<span style="color: rgb(0\, 0\, 0)\; font-family: Arial\; white-space: pre-wrap\;">Try their group yoga\, pilates\, and barre classes or book a private session of yoga or reformer pilates. All of their instructors are well versed in teaching to all levels and are prepared to help you have a wonderful experience with yoga and pilates. Wether you are new to movement practice or just looking for a new studio\, you will love the welcoming community at Sun Rock Yoga!<br />\n<br />\nLight Refreshments will be served!</span></span>
LOCATION:446 S. Mall Drive B-6\, St. George\, UT 84790
UID:e.1117.16880
SEQUENCE:3
DTSTAMP:20260421T032451Z
URL:https://business.stgeorgechamber.com/events/details/grand-opening-sunrock-yoga-pilates-16880
END:VEVENT

END:VCALENDAR
