BEGIN:VCALENDAR
VERSION:2.0
PRODID:-//ChamberMaster//Event Calendar 2.0//EN
METHOD:PUBLISH
X-PUBLISHED-TTL:P3D
REFRESH-INTERVAL:P3D
CALSCALE:GREGORIAN
BEGIN:VEVENT
DTSTART:20260303T230000Z
DTEND:20260304T010000Z
X-MICROSOFT-CDO-ALLDAYEVENT:FALSE
SUMMARY:GRAND OPENING | HAMPTON INN & SUITES
DESCRIPTION:Please joins us for tours of the property\, chef-crafted selections\, soda bar\, and a chance to enter our weekend giveaway
X-ALT-DESC;FMTTYPE=text/html:<p class="p1" style="margin: 0px\; font-variant-numeric: normal\; font-variant-east-asian: normal\; font-variant-alternates: normal\; font-kerning: auto\; font-optical-sizing: auto\; font-feature-settings: normal\; font-variation-settings: normal\; font-variant-position: normal\; font-stretch: normal\; font-size: 12px\; line-height: normal\; font-family: Helvetica\; color: rgb(0\, 0\, 0)\;"><span style="font-size:22px\;">Please joins us for tours of the property\, chef-crafted selections\, soda bar\, and a chance to enter our weekend giveaway</span></p>\n
LOCATION:
UID:e.1117.18646
SEQUENCE:3
DTSTAMP:20260421T112048Z
URL:https://business.stgeorgechamber.com/events/details/grand-opening-hampton-inn-suites-18646
END:VEVENT

END:VCALENDAR
