BEGIN:VCALENDAR
VERSION:2.0
PRODID:-//ChamberMaster//Event Calendar 2.0//EN
METHOD:PUBLISH
X-PUBLISHED-TTL:P3D
REFRESH-INTERVAL:P3D
CALSCALE:GREGORIAN
BEGIN:VEVENT
DTSTART:20150319T174500Z
DTEND:20150319T190000Z
X-MICROSOFT-CDO-ALLDAYEVENT:FALSE
SUMMARY:Grand Opening for Hamilton Park Interiors
DESCRIPTION:Hamilton Park Interiors is proud to announce our Grand Re-Opening!  We have remodeled our showroom\, added a ton more fabrics\, a few tables and created a design center with you in mind. Come join us for a yummy free catered lunch at our Ancestor Square location 2 West St. George Blvd (just above Painted Pony).\n\n\n\nMeet the owner\, Shayne Hemsley\, our new Showroom Manager\, Tamra Carter\, and our excellent Interior Designer\, Haley Miller.
X-ALT-DESC;FMTTYPE=text/html:Hamilton Park Interiors is proud to announce our Grand Re-Opening! &nbsp\;We have remodeled our showroom\, added a ton more fabrics\, a few tables and created a design center with you in mind. Come join us for a yummy free catered lunch at our Ancestor Square location 2 West St. George Blvd (just above Painted Pony).<br />\n<br />\nMeet the owner\, Shayne Hemsley\, our new Showroom Manager\, Tamra Carter\, and our excellent Interior Designer\, Haley Miller.&nbsp\;
LOCATION:Hamilton Park Interiors in Ancestor Square - 2 West St. George Blvd (just above Painted Pony)
UID:e.1117.6338
SEQUENCE:3
DTSTAMP:20260420T190910Z
URL:https://business.stgeorgechamber.com/events/details/grand-opening-for-hamilton-park-interiors-03-19-2015-6338
END:VEVENT

END:VCALENDAR
