BEGIN:VCALENDAR
VERSION:2.0
PRODID:-//ChamberMaster//Event Calendar 2.0//EN
METHOD:PUBLISH
X-PUBLISHED-TTL:P3D
REFRESH-INTERVAL:P3D
CALSCALE:GREGORIAN
BEGIN:VEVENT
DTSTART:20230110T233000Z
DTEND:20230111T003000Z
X-MICROSOFT-CDO-ALLDAYEVENT:FALSE
SUMMARY:GRAND OPENING EVENT: Quick Quack Car Wash
DESCRIPTION:Quick Quack Car Wash is opening a new location on Mall Drive. Join us as we celebrate their grand opening this new year! A  tour of the facility and light lunch will be provided\, we hope to see you there!
X-ALT-DESC;FMTTYPE=text/html:Quick Quack Car Wash is opening a new location on Mall Drive. Join us as we celebrate their grand opening this new year! A&nbsp\; tour of the facility and light lunch will be provided\, we hope to see you there!
LOCATION:2828 S Mall Drive\, Saint George\, UT 84790
UID:e.1117.16849
SEQUENCE:3
DTSTAMP:20260421T031956Z
URL:https://business.stgeorgechamber.com/events/details/grand-opening-event-quick-quack-car-wash-16849
END:VEVENT

END:VCALENDAR
