BEGIN:VCALENDAR
VERSION:2.0
PRODID:-//ChamberMaster//Event Calendar 2.0//EN
METHOD:PUBLISH
X-PUBLISHED-TTL:P3D
REFRESH-INTERVAL:P3D
CALSCALE:GREGORIAN
BEGIN:VEVENT
DTSTART:20231019T150000Z
DTEND:20231019T160000Z
X-MICROSOFT-CDO-ALLDAYEVENT:FALSE
SUMMARY:GRAND OPENING - Beaverwood Disc Golf Course
DESCRIPTION:Join us for the grand opening of the Beaverwood Disc Golf Course on Thursday\, October 19\, at 9 a.m. \n\n \n\nIn lieu of a ribbon cutting\, there will be a short program followed by a ceremonial disc toss.
X-ALT-DESC;FMTTYPE=text/html:<div class="gmail_default" style="color: rgb(34\, 34\, 34)\; font-family: Arial\, Helvetica\, sans-serif\; font-size: small\;"><font face="arial\, sans-serif">Join us for the grand opening of the Beaverwood Disc Golf Course on Thursday\, October&nbsp\;19\,&nbsp\;</font>at 9 a.m.&nbsp\;</div>\n\n<div class="gmail_default" style="color: rgb(34\, 34\, 34)\; font-family: Arial\, Helvetica\, sans-serif\; font-size: small\;">&nbsp\;</div>\n\n<div class="gmail_default" style="color: rgb(34\, 34\, 34)\; font-family: Arial\, Helvetica\, sans-serif\; font-size: small\;">In lieu of a ribbon cutting\, there will be a short program followed by a ceremonial disc toss.</div>\n
LOCATION:St. James Park 741 St. James Lane St George
UID:e.1117.17240
SEQUENCE:3
DTSTAMP:20260421T083328Z
URL:https://business.stgeorgechamber.com/events/details/grand-opening-beaverwood-disc-golf-course-17240
END:VEVENT

END:VCALENDAR
