BEGIN:VCALENDAR
VERSION:2.0
PRODID:-//ChamberMaster//Event Calendar 2.0//EN
METHOD:PUBLISH
X-PUBLISHED-TTL:P3D
REFRESH-INTERVAL:P3D
CALSCALE:GREGORIAN
BEGIN:VEVENT
DTSTART:20141118T190000Z
DTEND:20141118T220000Z
X-MICROSOFT-CDO-ALLDAYEVENT:FALSE
SUMMARY:Grand Opening
DESCRIPTION:Grand Opening of our new office Bay Equity Home Loans
X-ALT-DESC;FMTTYPE=text/html:Grand Opening of our new office Bay Equity Home Loans
LOCATION:20 North Main #202
UID:e.1117.6153
SEQUENCE:3
DTSTAMP:20260421T010451Z
URL:https://business.stgeorgechamber.com/events/details/grand-opening-11-18-2014-6153
END:VEVENT

END:VCALENDAR
