BEGIN:VCALENDAR
VERSION:2.0
PRODID:-//ChamberMaster//Event Calendar 2.0//EN
METHOD:PUBLISH
X-PUBLISHED-TTL:P3D
REFRESH-INTERVAL:P3D
CALSCALE:GREGORIAN
BEGIN:VEVENT
DTSTART:20150329T010000Z
DTEND:20150329T021500Z
X-MICROSOFT-CDO-ALLDAYEVENT:FALSE
SUMMARY:God's Messengers: A Dancing Tribute to the Life of Jesus Christ
DESCRIPTION:We are God's Messengers. We are a dance company of women committed to using our talents to share the love of God and the life and teachings of His son\, Jesus Christ. Thus\, we are literally striving to be God's Messengers. Join us on March 28th & 30th as we experience the life of Jesus Christ through movement and music. Our goal is to provide quality\, uplifting entertainment as we share our testimonies of Christ through creative movement and artistic expression. Come enjoy an evening of beauty and inspiration with us.
X-ALT-DESC;FMTTYPE=text/html:We are God&#39\;s Messengers. We are a dance company of women committed to using our talents to share the love of God and the life and teachings of His son\, Jesus Christ. Thus\, we are literally striving to be God&#39\;s Messengers. Join us on March 28th &amp\; 30th as we experience the life of Jesus Christ through movement and music. Our goal is to provide quality\, uplifting entertainment as we share our testimonies of Christ through creative movement and artistic expression. Come enjoy an evening of beauty and inspiration with us.
LOCATION:Eccles Fine Arts Center on the Main Stage 160 South 700 East
UID:e.1117.6328
SEQUENCE:3
DTSTAMP:20260420T205522Z
URL:https://business.stgeorgechamber.com/events/details/god-s-messengers-a-dancing-tribute-to-the-life-of-jesus-christ-03-28-2015-6328
END:VEVENT

END:VCALENDAR
