BEGIN:VCALENDAR
VERSION:2.0
PRODID:-//ChamberMaster//Event Calendar 2.0//EN
METHOD:PUBLISH
X-PUBLISHED-TTL:P3D
REFRESH-INTERVAL:P3D
CALSCALE:GREGORIAN
BEGIN:VEVENT
DTSTART:20150925T013000Z
DTEND:20151004T033000Z
X-MICROSOFT-CDO-ALLDAYEVENT:FALSE
SUMMARY:GOD OF CARNAGE\, A COMEDY
DESCRIPTION:God of Carnage\, Dark Comedy\, Sept. 24-26\; 29\, 30\, Oct. 1-3\, PG-13\, by Yasmina Reza\, translated by Christopher Hampton\, through special arrangements with Dramatist Play Publishing\, Inc. A playground altercation brings together two sets of Brooklyn parents. Diplomatic niceties are observed\, but as the meeting progresses\, the gloves come off\, leaving the couples in tatters. Co-Directed by Michael Harding and DSU senior Tiffany Herzog.
X-ALT-DESC;FMTTYPE=text/html:God of Carnage\, Dark Comedy\, Sept. 24-26\; 29\, 30\, Oct. 1-3\, PG-13\, by Yasmina Reza\, translated by Christopher Hampton\, through special arrangements with Dramatist Play Publishing\, Inc. A playground altercation brings together two sets of Brooklyn parents. Diplomatic niceties are observed\, but as the meeting progresses\, the gloves come off\, leaving the couples in tatters. Co-Directed by Michael Harding and DSU senior Tiffany Herzog.
LOCATION:Corner of 700 East and 100 South DSU Campus\, Eccles Black Box
UID:e.1117.7081
SEQUENCE:3
DTSTAMP:20260420T065335Z
URL:https://business.stgeorgechamber.com/events/details/god-of-carnage-a-comedy-09-24-2015-7081
END:VEVENT

END:VCALENDAR
