BEGIN:VCALENDAR
VERSION:2.0
PRODID:-//ChamberMaster//Event Calendar 2.0//EN
METHOD:PUBLISH
X-PUBLISHED-TTL:P3D
REFRESH-INTERVAL:P3D
CALSCALE:GREGORIAN
BEGIN:VEVENT
DTSTART:20140712T023000Z
DTEND:20140712T050000Z
X-MICROSOFT-CDO-ALLDAYEVENT:FALSE
SUMMARY:Glow Golf Charity Tournament
DESCRIPTION:For each tournament we provide you with glow sticks\, golf balls\, and necklaces. We do ask that you bring your own flashlight so while you drive the cart you don't have any mishaps.    Glow Golf Tournaments provides a fun\, unique atmosphere for golfers of all ages! Plus\, proceeds go to helping people in the community. Register on our website or at Dixie Red Hills golf course.
X-ALT-DESC;FMTTYPE=text/html:For each tournament we provide you with glow sticks\, golf balls\, and necklaces. We do ask that you bring your own flashlight so while you drive the cart you don&#39\;t have any mishaps.&nbsp\; &nbsp\; Glow Golf Tournaments provides a fun\, unique atmosphere for golfers of all ages! Plus\, proceeds go to helping people in the community. Register on our website or at Dixie Red Hills golf course.&nbsp\;
LOCATION:Dixie Red Hills Golf Course
UID:e.1117.5271
SEQUENCE:3
DTSTAMP:20260421T071743Z
URL:https://business.stgeorgechamber.com/events/details/glow-golf-charity-tournament-07-11-2014-5271
END:VEVENT

END:VCALENDAR
