BEGIN:VCALENDAR
VERSION:2.0
PRODID:-//ChamberMaster//Event Calendar 2.0//EN
METHOD:PUBLISH
X-PUBLISHED-TTL:P3D
REFRESH-INTERVAL:P3D
CALSCALE:GREGORIAN
BEGIN:VEVENT
DTSTART:20140920T150000Z
DTEND:20140920T230000Z
X-MICROSOFT-CDO-ALLDAYEVENT:FALSE
SUMMARY:Global Women's Summits: Life & Wealth Mastery For Women Worldwide
DESCRIPTION:Discover Your Authentic Path to Life and Wealth Mastery: ? Learn Why Connecting with Your Authentic Path is Critical ? Deepen Your Understanding of Your Purpose ? Learn to Listen to Yourself with Greater Clarity ? Increase Your ability to Relate to Others ? Discover Authentic Ways to share your Gifts and Talents ? Gain Strategies to Find\, Live and Share Your Authentic Path ? Get Unstuck!! Discover Techniques to Gain Life and Wealth Mastery: ? Learn How to Hurdle Barriers & Excel in All areas of our Life ? Learn ?The 12 Absolute Laws to Create Wealth\, Starting Today? ? Receive a Free ?Step-by-Step Wealth Plan? at the event! ? Learn Cutting-Edge Business\, Sales\, & Marketing Strategies ? Become More Healthy\, Fit\, and Beautiful (With more energy!) ? Enjoy Life and Wealth Training (Life-Changing!) Videos ? Discover How to Go global with Your Life and Your Business
X-ALT-DESC;FMTTYPE=text/html:Discover Your Authentic Path to Life and Wealth Mastery: ? Learn Why Connecting with Your Authentic Path is Critical ? Deepen Your Understanding of Your Purpose ? Learn to Listen to Yourself with Greater Clarity ? Increase Your ability to Relate to Others ? Discover Authentic Ways to share your Gifts and Talents ? Gain Strategies to Find\, Live and Share Your Authentic Path ? Get Unstuck!! Discover Techniques to Gain Life and Wealth Mastery: ? Learn How to Hurdle Barriers &amp\; Excel in All areas of our Life ? Learn ?The 12 Absolute Laws to Create Wealth\, Starting Today? ? Receive a Free ?Step-by-Step Wealth Plan? at the event! ? Learn Cutting-Edge Business\, Sales\, &amp\; Marketing Strategies ? Become More Healthy\, Fit\, and Beautiful (With more energy!) ? Enjoy Life and Wealth Training (Life-Changing!) Videos ? Discover How to Go global with Your Life and Your Business
LOCATION:Best Western Plus Abbey Inn 1129 S Bluff Street St. George\, UT 84770
UID:e.1117.6116
SEQUENCE:3
DTSTAMP:20260421T055752Z
URL:https://business.stgeorgechamber.com/events/details/global-women-s-summits-life-wealth-mastery-for-women-worldwide-09-20-2014-6116
END:VEVENT

END:VCALENDAR
