BEGIN:VCALENDAR
VERSION:2.0
PRODID:-//ChamberMaster//Event Calendar 2.0//EN
METHOD:PUBLISH
X-PUBLISHED-TTL:P3D
REFRESH-INTERVAL:P3D
CALSCALE:GREGORIAN
BEGIN:VEVENT
DTSTART:20130420T190000Z
DTEND:20130420T230000Z
X-MICROSOFT-CDO-ALLDAYEVENT:FALSE
SUMMARY:Girl Scouts of Utah's Annual Healthy Teen Media Summit: What Makes You Beautiful
DESCRIPTION:Join us on April 20 to re-define beauty for yourself.  This summit will feature the Sundance film\, Miss Representation\, and a series of workshops presented by successful Utah women.
X-ALT-DESC;FMTTYPE=text/html:<span style="font-family: 'kristen itc'\; font-size: 11pt\; mso-fareast-font-family: calibri\; mso-fareast-theme-font: minor-latin\; mso-bidi-font-family: 'times new roman'\; mso-ansi-language: en-us\; mso-fareast-language: en-us\; mso-bidi-language: ar-sa"><font color="#000000">Join us on April 20 to re-define beauty for yourself.&nbsp\; This summit will feature the Sundance film\, Miss Representation\, and a series of workshops presented by successful Utah women. </font></span>
LOCATION:DSC\, Dunford Auditorium 225 South 700 East St. George\, UT 84770
UID:e.1117.2553
SEQUENCE:3
DTSTAMP:20260422T062211Z
URL:https://business.stgeorgechamber.com/events/details/girl-scouts-of-utah-s-annual-healthy-teen-media-summit-what-makes-you-beautiful-04-20-2013-2553
END:VEVENT

END:VCALENDAR
