BEGIN:VCALENDAR
VERSION:2.0
PRODID:-//ChamberMaster//Event Calendar 2.0//EN
METHOD:PUBLISH
X-PUBLISHED-TTL:P3D
REFRESH-INTERVAL:P3D
CALSCALE:GREGORIAN
BEGIN:VEVENT
DTSTART:20160224T003000Z
DTEND:20160224T020000Z
X-MICROSOFT-CDO-ALLDAYEVENT:FALSE
SUMMARY:Gifts and Challenges class
DESCRIPTION:This class is designed for families with special needs children. There are many gifts and challenges with having special needs children come learn about these. Put on by the Washington County Family to Family Network and the Utah Parent Center there will be free childcare with RSVP with child's name\, age\, and disability
X-ALT-DESC;FMTTYPE=text/html:This class is designed for families with special needs children. There are many gifts and challenges with having special needs children come learn about these. Put on by the Washington County Family to Family Network and the Utah Parent Center there will be free childcare with RSVP with child&#39\;s name\, age\, and disability
LOCATION:Summit Behavior Services 1492 South Silicon Way\, Suite A
UID:e.1117.8429
SEQUENCE:3
DTSTAMP:20260419T233939Z
URL:https://business.stgeorgechamber.com/events/details/gifts-and-challenges-class-02-23-2016-8429
END:VEVENT

END:VCALENDAR
