BEGIN:VCALENDAR
VERSION:2.0
PRODID:-//ChamberMaster//Event Calendar 2.0//EN
METHOD:PUBLISH
X-PUBLISHED-TTL:P3D
REFRESH-INTERVAL:P3D
CALSCALE:GREGORIAN
BEGIN:VEVENT
DTSTART:20151024T230000Z
DTEND:20151025T020000Z
X-MICROSOFT-CDO-ALLDAYEVENT:FALSE
SUMMARY:Ghost Night
DESCRIPTION:The Silver Reef Museum is once again hosting Ghost Nights! Some of our ghosts are returning\, and some are crossing over for the first time to tell you all the gritty details of their former lives. We will have an indoor matinee at 5pm on October 24th for those who may not feel comfortable walking outside in the dark. This will be followed by our outdoor performances at 7pm on October 24th and October 30th. Please bring a flashlight for 7pm performances. Each show will last about an hour\, after which we will provide light refreshments. Tickets are $5 with reservations\, $7 at the door and free for members.\n\n\n\nFor more information or to make a reservation\, please contact the Silver Reef Museum at Museum@SilverReef.org or 435-879-2254.
X-ALT-DESC;FMTTYPE=text/html:<p>The Silver Reef Museum is once again hosting Ghost Nights! Some of our ghosts are returning\, and some are crossing over for the first time to tell you all the gritty details of their former lives. We will have an indoor matinee at 5pm on October 24th for those who may not feel comfortable walking outside in the dark. This will be followed by our outdoor performances at 7pm on October 24th and October 30th. Please bring a flashlight for 7pm performances.&nbsp\;Each show will last about an hour\, after which we will provide light refreshments. Tickets are $5 with reservations\, $7 at the door and free for members.<br />\n<br />\nFor more information or to make a reservation\, please contact the Silver Reef Museum at Museum@SilverReef.org or 435-879-2254.</p>\n
LOCATION:Silver Reef Museum 1903 Wells Fargo Road Leeds\, Utah 84746
UID:e.1117.7236
SEQUENCE:3
DTSTAMP:20260420T064857Z
URL:https://business.stgeorgechamber.com/events/details/ghost-night-10-24-2015-7236
END:VEVENT

END:VCALENDAR
