BEGIN:VCALENDAR
VERSION:2.0
PRODID:-//ChamberMaster//Event Calendar 2.0//EN
METHOD:PUBLISH
X-PUBLISHED-TTL:P3D
REFRESH-INTERVAL:P3D
CALSCALE:GREGORIAN
BEGIN:VEVENT
DTSTART:20150606T000000Z
DTEND:20150606T040000Z
X-MICROSOFT-CDO-ALLDAYEVENT:FALSE
SUMMARY:George Street Fest on Main
DESCRIPTION:Coming to St. George June 5\, 2015\, is the new monthly first  Fridayevent\, George Streetfest on Main. Sponsored by St. George City\, St. George Area Convention and Visitors Bureau\, and Historic Downtown Merchants\, the event is designed to celebrate the best of southern Utah.\n\nOn the first Friday of every month\, from 6 to 10 p.m.\, St. George Main Street will close between Tabernacle and St. George Boulevard for the purpose of celebration. Local artists\, performers\, crafters and vendors will line the street providing a variety of options for food\, fun and shopping downtown.\n\nGeorge Streetfest on Main is southern Utah's newirst Friday celebration. The purpose of this event is to promote St. George's downtown historic district\, and to celebrate the best of southern Utah. The goal of the event is to establish a rich sense of community in the heart of the City\, to celebrate local artists\, and to provide a clean and safe nightlife entertainment option for local residents and tourists. The event features a signature street concert\, buskers\, and goods sold by local artists\, farmers and merchants. Engagement components include the Passport to the City program\, George Jr. Treasure Hunt for Kids\, and the George Jazz Garden at Ancestor Square.
X-ALT-DESC;FMTTYPE=text/html:<div style="box-sizing: border-box\; border: 0px none\; font-family: 'Open Sans'\, sans-serif\; font-size: 16px\; margin: 13px\; outline: none 0px\; padding: 0px\; vertical-align: baseline\; color: rgb(109\, 110\, 113)\; line-height: 25.6000003814697px\;"><span style="color:#000000\;">Coming to St. George June 5\, 2015\, is the new monthly first&nbsp\; Fridayevent\, George Streetfest on Main. Sponsored by St. George City\, St. George Area Convention and Visitors Bureau\, and Historic Downtown Merchants\, the event is designed to celebrate the best of southern Utah.<br />\nOn the first Friday of every month\, from 6 to 10 p.m.\, St. George Main Street will close between Tabernacle and St. George Boulevard for the purpose of celebration. Local artists\, performers\, crafters and vendors will line the street providing a variety of options for food\, fun and shopping downtown.<br />\nGeorge Streetfest on Main is southern Utah&rsquo\;s newirst Friday celebration. The purpose of this event is to promote St. George&rsquo\;s downtown historic district\, and to celebrate the best of southern Utah. The goal of the event is to establish a rich sense of community in the heart of the City\, to celebrate local artists\, and to provide a clean and safe nightlife entertainment option for local residents and tourists. The event features a signature street concert\, buskers\, and goods sold by local artists\, farmers and merchants. Engagement components include the Passport to the City program\, George Jr. Treasure Hunt for Kids\, and the George Jazz Garden at Ancestor Square.</span></div>\n
LOCATION:
UID:e.1117.6471
SEQUENCE:3
DTSTAMP:20260420T133312Z
URL:https://business.stgeorgechamber.com/events/details/george-street-fest-on-main-06-05-2015-6471
END:VEVENT

END:VCALENDAR
