BEGIN:VCALENDAR
VERSION:2.0
PRODID:-//ChamberMaster//Event Calendar 2.0//EN
METHOD:PUBLISH
X-PUBLISHED-TTL:P3D
REFRESH-INTERVAL:P3D
CALSCALE:GREGORIAN
BEGIN:VEVENT
DTSTART:20151114T170000Z
DTEND:20151114T180000Z
X-MICROSOFT-CDO-ALLDAYEVENT:FALSE
SUMMARY:Geology Lecture with Marc Deshowitz
DESCRIPTION:The Silver Reef Museum is pleased to welcome geologist Marc Deshowitz for a lecture at the Silver Reef Museum. \n\nMarc is originally from the Boston area where he did his undergraduate studies in Geology at Salem State University. He then went on to do his graduate work at Southern Illinois University. Upon completing his degree\, Marc went to work for Shell Oil Company in the Gulf Coast Region where he explored for oil and gas accumulations globally for 30 years. \n\nHe retired to St. George in 2008 with his wife Chrystal\, and together they lead educational Road Scholar Excursions in the National Parks of Utah through Dixie State University. In addition\, Marc continues to do consulting work in the Oil Industry.\n\n\n\nMarc is also the owner and president of GeoInsight Solutions\, LLC which provides interpretation services to both major and independent oil and gas exploration companies. \n\nMarc's talk will be entitled\, "Geopsychology of the Silver Reef\, Leeds\, Utah" and will take place on November 14th at 10:00 a.m. There is a suggested donation of $4/person.  \n\n\n\nRSVPs are preferred but not required. To reserve a spot\, please call 435-879-2254 or email Museum@SilverReef.org.
X-ALT-DESC;FMTTYPE=text/html:<p>The Silver Reef Museum is pleased to welcome geologist Marc Deshowitz for a lecture at the Silver Reef Museum.&nbsp\;</p>\n\n<p>Marc is originally from the Boston area where he did his undergraduate studies in Geology at Salem State University. He then went on to do his graduate work at Southern Illinois University. Upon completing his degree\, Marc went to work for Shell Oil Company in the Gulf Coast Region where he explored for oil and gas accumulations globally for 30 years.&nbsp\;</p>\n\n<p>He retired to St. George in 2008 with his wife Chrystal\, and together they lead educational Road Scholar Excursions in the National Parks of Utah through Dixie State University. In addition\, Marc continues to do&nbsp\;consulting work in the Oil Industry.<br />\n<br />\nMarc is also the owner and president of GeoInsight Solutions\, LLC which provides interpretation services to both major and independent oil and gas exploration companies.&nbsp\;</p>\n\n<p>Marc&#39\;s talk will be entitled\, &quot\;Geopsychology of the Silver Reef\, Leeds\, Utah&quot\; and will take place on November 14th at 10:00 a.m. There is a suggested donation of $4/person. &nbsp\;<br />\n<br />\nRSVPs are preferred but not required. To reserve a spot\, please call 435-879-2254 or email Museum@SilverReef.org.</p>\n
LOCATION:Silver Reef Museum
UID:e.1117.7285
SEQUENCE:3
DTSTAMP:20260420T050931Z
URL:https://business.stgeorgechamber.com/events/details/geology-lecture-with-marc-deshowitz-11-14-2015-7285
END:VEVENT

END:VCALENDAR
