BEGIN:VCALENDAR
VERSION:2.0
PRODID:-//ChamberMaster//Event Calendar 2.0//EN
METHOD:PUBLISH
X-PUBLISHED-TTL:P3D
REFRESH-INTERVAL:P3D
CALSCALE:GREGORIAN
BEGIN:VEVENT
DTSTART:20140505T220000Z
DTEND:20140506T010000Z
X-MICROSOFT-CDO-ALLDAYEVENT:FALSE
SUMMARY:Garden Fair & Water Walk
DESCRIPTION:Mark your calendar for the 5th Annual Garden Fair and Water Walk.  The Garden Fair is fun for the whole family.  Enjoy a variety of educational booths and interactive displays\, a bounce house and refreshments.  At 7pm\, join St. George Mayor Jon Pike for a two-mile walk from The Garden to Cottonwood Cove Park.  The two-mile walk symbolizes the distance families in water-stressed communities walk every day for water.
X-ALT-DESC;FMTTYPE=text/html:Mark your calendar for the 5th Annual Garden Fair and Water Walk. &nbsp\;The Garden Fair is fun for the whole family. &nbsp\;Enjoy a variety of educational booths and interactive displays\, a bounce house and refreshments. &nbsp\;At 7pm\, join St. George Mayor Jon Pike for a two-mile walk from The Garden to Cottonwood Cove Park. &nbsp\;The two-mile walk symbolizes the distance families in water-stressed communities walk every day for water.
LOCATION:The Garden\, 1851 S. Dixie Drive
UID:e.1117.5132
SEQUENCE:3
DTSTAMP:20260421T095817Z
URL:https://business.stgeorgechamber.com/events/details/garden-fair-water-walk-05-05-2014-5132
END:VEVENT

END:VCALENDAR
