BEGIN:VCALENDAR
VERSION:2.0
PRODID:-//ChamberMaster//Event Calendar 2.0//EN
METHOD:PUBLISH
X-PUBLISHED-TTL:P3D
REFRESH-INTERVAL:P3D
CALSCALE:GREGORIAN
BEGIN:VEVENT
DTSTART:20160520T000000Z
DTEND:20160520T000000Z
X-MICROSOFT-CDO-ALLDAYEVENT:FALSE
SUMMARY:Game Night at the St George Art Museum
DESCRIPTION:Every third Thursday of the month is game night at the Museum. Come join the fun and plan games including the National Park Trekker\, National Park versions of Yahtzee\, Memory\, Monopoly\, Jenga and Birdcage which is a game of Amazing Places in the National Parks. Ages 8 and up
X-ALT-DESC;FMTTYPE=text/html:Every third Thursday of the month is game night at the Museum. Come join the fun and plan games including the National Park Trekker\, National Park versions of Yahtzee\, Memory\, Monopoly\, Jenga and Birdcage which is a game of Amazing Places in the National Parks. Ages 8 and up
LOCATION:St George Art Museum 47 E. 200 No St. George\, UT
UID:e.1117.8559
SEQUENCE:3
DTSTAMP:20260419T183615Z
URL:https://business.stgeorgechamber.com/events/details/game-night-at-the-st-george-art-museum-05-19-2016-8559
END:VEVENT

END:VCALENDAR
