BEGIN:VCALENDAR
VERSION:2.0
PRODID:-//ChamberMaster//Event Calendar 2.0//EN
METHOD:PUBLISH
X-PUBLISHED-TTL:P3D
REFRESH-INTERVAL:P3D
CALSCALE:GREGORIAN
BEGIN:VEVENT
DTSTART:20140112T020000Z
DTEND:20140112T060000Z
X-MICROSOFT-CDO-ALLDAYEVENT:FALSE
SUMMARY:Future Stars of Wrestling "When Stars Collide"
DESCRIPTION:FUTURE STARS OF WRESTLING AND THE CASABLANCA RESORT & CASINO PRESENT WHEN STARS COLLIDE 2!!!\n\n \n\nFrom tag teams\, to take downs\, drops to drags\, each moment will be chock-full of electrifying action with the professional wrestling.  Not only will former WWE\, WCW\, TNA and ROH Superstars be on the card\, brand new favorites from FSW will create all the havoc and chaos for which these contests are famous   or rather\, infamous.\n\n \n\nTo learn more or to purchase advance tickets\, please visit www.mesquitegaming.com  Tickets may also be purchased through Star Tickets\, 1-800-585-3737.  Future Stars of Wrestling and Mesquite Gaming hope you will be able to join us to watch "When Stars Collide." Special room rates are available online using promo Code MGFWC1
X-ALT-DESC;FMTTYPE=text/html:<strong><span style="font-size:14.0pt\;">FUTURE STARS OF WRESTLING AND THE CASABLANCA RESORT &amp\; CASINO PRESENT <em><u>WHEN STARS COLLIDE 2!!!</u></em></span></strong><br />\n&nbsp\;<br />\nFrom tag teams\, to take downs\, drops to drags\, each moment will be chock-full of electrifying action with the professional wrestling. &nbsp\;Not only will former WWE\, WCW\, TNA and ROH Superstars be on the card\, brand new favorites from FSW will create all the havoc and chaos for which these contests are famous &ndash\; or rather\, infamous.<br />\n&nbsp\;<br />\nTo learn more or to purchase advance tickets\, please visit <a href="http://www.mesquitegaming.com/">www.mesquitegaming.com</a>&nbsp\; Tickets may also be purchased through Star Tickets\, 1-800-585-3737.&nbsp\; Future Stars of Wrestling and Mesquite Gaming hope you will be able to join us to watch &ldquo\;When Stars Collide.&rdquo\; Special room rates are available online using promo Code MGFWC1&nbsp\;<br />\n
LOCATION:CasaBlanca Resort & Casino's Events Center
UID:e.1117.5002
SEQUENCE:3
DTSTAMP:20260421T154602Z
URL:https://business.stgeorgechamber.com/events/details/future-stars-of-wrestling-when-stars-collide-01-11-2014-5002
END:VEVENT

END:VCALENDAR
