BEGIN:VCALENDAR
VERSION:2.0
PRODID:-//ChamberMaster//Event Calendar 2.0//EN
METHOD:PUBLISH
X-PUBLISHED-TTL:P3D
REFRESH-INTERVAL:P3D
CALSCALE:GREGORIAN
BEGIN:VEVENT
DTSTART:20130619T220000Z
DTEND:20130620T020000Z
X-MICROSOFT-CDO-ALLDAYEVENT:FALSE
SUMMARY:Fund Raiser fun The Boys Scouts Of America
DESCRIPTION:20 % of all the sales between 4pm - 8pm go to the BSA\n\n\n\nSloppy Joe Dinner - $4.99 per person\n\nSandwich\, Potato Salad\, Chips\, & a Cookie\n\n\n\nServed between 4 - 8
X-ALT-DESC;FMTTYPE=text/html:&nbsp\;20 % of all the sales between 4pm - 8pm go to the BSA<br />\n<br />\nSloppy Joe Dinner - $4.99 per person<br />\nSandwich\, Potato Salad\, Chips\, &amp\; a Cookie<br />\n<br />\nServed between 4 - 8<br />\n<br />\n
LOCATION:Grandma Tobler's Bakery LLC 1091 N. Bluff ste 1003
UID:e.1117.4131
SEQUENCE:3
DTSTAMP:20260422T024436Z
URL:https://business.stgeorgechamber.com/events/details/fund-raiser-fun-the-boys-scouts-of-america-06-19-2013-4131
END:VEVENT

END:VCALENDAR
