BEGIN:VCALENDAR
VERSION:2.0
PRODID:-//ChamberMaster//Event Calendar 2.0//EN
METHOD:PUBLISH
X-PUBLISHED-TTL:P3D
REFRESH-INTERVAL:P3D
CALSCALE:GREGORIAN
BEGIN:VEVENT
DTSTART:20130907T013000Z
DTEND:20130907T023000Z
X-MICROSOFT-CDO-ALLDAYEVENT:FALSE
SUMMARY:Freedom Forum with Senator Lee
DESCRIPTION:Senator Mike Lee will kick-off a series of "Freedom Forums" as the special guest speaker.\n\n\n\nThe Washington County Republican Party will be sponsoring several "Freedom Forums" over the next year with noted speakers who will discuss the importance and impact of liberty\, representative government\, free markets\, and other principles on our way of life.\n\n\n\nThe Chairman of the Washington County Republican Party\, Nick Lang\, said "The good people of Washington County have busy\, productive lives filled with family\, jobs\, church\, and service and we benefit greatly from the freedoms we enjoy in this country. The Freedom Forums will provide some time for us to reconnect with founding principles and increase our awareness and understanding of these precious ideas. We especially encourage parents to bring their teen and young adult children with them. Our hope and goal is that the concepts which provide the foundation for America's greatness can be passed down to the next generation of citizens in our community."
X-ALT-DESC;FMTTYPE=text/html:Senator Mike Lee will kick-off a series of &quot\;Freedom Forums&quot\; as the special guest speaker.<br />\n<br />\nThe Washington County Republican Party will be sponsoring several &quot\;Freedom Forums&quot\; over the next year with noted speakers who will discuss the importance and impact of liberty\, representative government\, free markets\, and other principles on our way of life.<br />\n<br />\nThe Chairman of the Washington County Republican Party\, Nick Lang\, said &quot\;The good people of Washington County have busy\, productive lives filled with family\, jobs\, church\, and service and we benefit greatly from the freedoms we enjoy in this country. The Freedom Forums will provide some time for us to reconnect with founding principles and increase our awareness and understanding of these precious ideas. We especially encourage parents to bring their teen and young adult children with them. Our hope and goal is that the concepts which provide the foundation for America&#39\;s greatness can be passed down to the next generation of citizens in our community.&quot\;
LOCATION:Gardner Center Ballroom Dixie State University 225 South 700 East
UID:e.1117.4276
SEQUENCE:3
DTSTAMP:20260421T232735Z
URL:https://business.stgeorgechamber.com/events/details/freedom-forum-with-senator-lee-09-06-2013-4276
END:VEVENT

END:VCALENDAR
