BEGIN:VCALENDAR
VERSION:2.0
PRODID:-//ChamberMaster//Event Calendar 2.0//EN
METHOD:PUBLISH
X-PUBLISHED-TTL:P3D
REFRESH-INTERVAL:P3D
CALSCALE:GREGORIAN
BEGIN:VEVENT
DTSTART:20150418T150000Z
DTEND:20150418T180000Z
X-MICROSOFT-CDO-ALLDAYEVENT:FALSE
SUMMARY:Free Shred Day
DESCRIPTION:Security Service Federal Credit Union will host a free area shred day on Saturday\, April 18.\n\n\n\nThe event is designed to assist area residents with the safe and free disposal of unwanted\, personal documents.\n\n \n\n"In this day and age\, everyone should do what they can to protect themselves from identity theft\," said Greg Reed\, vice president of member service in Utah. "Free shred days allow folks to permanently and securely get rid of documents containing sensitive information like bank and credit card statements\, old tax returns or documents containing account numbers\, Social Security numbers\, or other identifiable information." \n\n \n\nPeople can drive up and drop off bags and boxes of paper for shredding only. Limit two 18"x20"x12" full boxes per household. Volunteers from Security Service will help with unloading\, and all documents will be shredded on site by Cintas.
X-ALT-DESC;FMTTYPE=text/html:<span style="font-size:14px\;"><span style="font-family:arial\;">Security Service Federal Credit Union will host a free area shred day on Saturday\, April 18.<br />\n<br />\nThe event is designed to assist area residents with the safe and free disposal of unwanted\, personal documents.<br />\n&nbsp\;<br />\n<span style="background-image:initial\;background-attachment:initial\;background-size:initial\;background-origin:initial\;background-clip:initial\;background-position:initial\;background-repeat:initial\;">&ldquo\;In this day and age\, everyone should do what they can to protect themselves from identity theft\,&rdquo\; said Greg Reed\, vice president of member service in Utah. &ldquo\;Free shred days allow folks to permanently and securely get rid of documents containing sensitive information like bank and credit card statements\, old tax returns or documents containing account numbers\, Social Security numbers\, or other identifiable information.&rdquo\; </span><br />\n&nbsp\;<br />\nPeople can drive up and drop off bags and boxes of paper for shredding only. Limit two 18&rdquo\;x20&rdquo\;x12&rdquo\; full boxes per household. Volunteers from Security Service will help with unloading\, and all documents will be shredded on site by Cintas.</span></span>
LOCATION:Security Service Federal Credit Union 1227 East 100 South St. George
UID:e.1117.6380
SEQUENCE:3
DTSTAMP:20260420T172743Z
URL:https://business.stgeorgechamber.com/events/details/free-shred-day-04-18-2015-6380
END:VEVENT

END:VCALENDAR
