BEGIN:VCALENDAR
VERSION:2.0
PRODID:-//ChamberMaster//Event Calendar 2.0//EN
METHOD:PUBLISH
X-PUBLISHED-TTL:P3D
REFRESH-INTERVAL:P3D
CALSCALE:GREGORIAN
BEGIN:VEVENT
DTSTART:20131122T190000Z
DTEND:20131122T200000Z
X-MICROSOFT-CDO-ALLDAYEVENT:FALSE
SUMMARY:Free Friday Concert at Town & Country Bank
DESCRIPTION:Patriotic-Historical Music Selections played by Quentin Nisson & Sons
X-ALT-DESC;FMTTYPE=text/html:Patriotic-Historical Music Selections played by Quentin Nisson &amp\; Sons
LOCATION:405 East St. George Blvd
UID:e.1117.4963
SEQUENCE:3
DTSTAMP:20260421T183930Z
URL:https://business.stgeorgechamber.com/events/details/free-friday-concert-at-town-country-bank-11-22-2013-4963
END:VEVENT

END:VCALENDAR
