BEGIN:VCALENDAR
VERSION:2.0
PRODID:-//ChamberMaster//Event Calendar 2.0//EN
METHOD:PUBLISH
X-PUBLISHED-TTL:P3D
REFRESH-INTERVAL:P3D
CALSCALE:GREGORIAN
BEGIN:VEVENT
DTSTART:20130608T010000Z
DTEND:20130608T030000Z
X-MICROSOFT-CDO-ALLDAYEVENT:FALSE
SUMMARY:Free Concert in the Park
DESCRIPTION:Free concert in the park with Mike Wilson featuring John Houston.  Live music\, amazing food\, bounce houses\, family fun!\n\n\n\nA community event for United Way Dixie.
X-ALT-DESC;FMTTYPE=text/html:Free concert in the park with Mike Wilson featuring John Houston. &nbsp\;Live music\, amazing food\, bounce houses\, family fun!<br />\n<br />\nA community event for United Way Dixie.
LOCATION:St. George Town Square
UID:e.1117.3885
SEQUENCE:3
DTSTAMP:20260422T023731Z
URL:https://business.stgeorgechamber.com/events/details/free-concert-in-the-park-06-07-2013-3885
END:VEVENT

END:VCALENDAR
